BEGIN:VCALENDAR
VERSION:2.0
PRODID:-//Events | Superior University - ECPv6.15.20//NONSGML v1.0//EN
CALSCALE:GREGORIAN
METHOD:PUBLISH
X-WR-CALNAME:Events | Superior University
X-ORIGINAL-URL:https://events.superior.edu.pk
X-WR-CALDESC:Events for Events | Superior University
REFRESH-INTERVAL;VALUE=DURATION:PT1H
X-Robots-Tag:noindex
X-PUBLISHED-TTL:PT1H
BEGIN:VTIMEZONE
TZID:UTC
BEGIN:STANDARD
TZOFFSETFROM:+0000
TZOFFSETTO:+0000
TZNAME:UTC
DTSTART:20250101T000000
END:STANDARD
END:VTIMEZONE
BEGIN:VEVENT
DTSTART;TZID=UTC:20260415T080000
DTEND;TZID=UTC:20260424T170000
DTSTAMP:20260419T161110
CREATED:20260415T103644Z
LAST-MODIFIED:20260416T110040Z
UID:41135-1776240000-1777050000@events.superior.edu.pk
SUMMARY:Call for Research Week 2026
DESCRIPTION:Overview\n\n\n\nAzra Naheed Medical College\, in collaboration with the Office of Research\, Innovation and Commercialization (ORIC) at Superior University\, announces the Call for Research Posters for Research Week 2026. \n\n\n\nThis initiative invites medical students\, house officers\, and postgraduate trainees to present innovative\, evidence-based\, and impactful research to the academic community. \n\n\n\nAbout the Initiative\n\n\n\nThe Research Poster Competition 2026 is designed to promote a strong research culture within the medical and academic community. It provides a platform for emerging healthcare professionals to share ideas\, exchange knowledge\, and engage in meaningful academic dialogue. \n\n\n\nThrough this initiative\, participants are encouraged to translate their research into visual\, accessible\, and impactful presentations. \n\n\n\nThemes for Submission\n\n\n\nParticipants may submit research posters across a variety of topics\, including but not limited to: \n\n\n\n\nAI in Medical Sciences\n\n\n\nMental Health and Emotional Intelligence\n\n\n\nImpact of Social Media Use on Students\n\n\n\nMedical Diseases and Public Health Awareness\n\n\n\nMedical Education and Learning Strategies\n\n\n\n\nImportant Dates\n\n\n\n\nPoster Submission Deadline: 18 March 2026\n\n\n\nResearch Poster Competition: 16 April 2026\n\n\n\nResearch Week Activities: 15 April – 24 April 2026\n\n\n\n\nWho Can Participate\n\n\n\n\nMedical Students\n\n\n\nHouse Officers\n\n\n\nPostgraduate Trainees\n\n\n\n\nWhy Participate\n\n\n\nThis is an opportunity to: \n\n\n\n\nShowcase original research and ideas\n\n\n\nGain academic exposure and recognition\n\n\n\nEngage with the wider research community\n\n\n\nContribute to the advancement of medical knowledge\n\n\n\n\nStudents and young researchers are encouraged to participate actively in Research Week 2026 and take this opportunity to present their work on an academic platform that values innovation\, collaboration\, and impact.
URL:https://events.superior.edu.pk/event/call-for-research-week-2026/
LOCATION:Superior University\, 17km Raiwind Rd\, Kot Araian\, Lahore\, Punjab\, Lahore
ATTACH;FMTTYPE=image/jpeg:https://events.superior.edu.pk/wp-content/uploads/2026/04/Group-4.jpg
END:VEVENT
BEGIN:VEVENT
DTSTART;TZID=UTC:20260428T080000
DTEND;TZID=UTC:20260428T170000
DTSTAMP:20260419T161110
CREATED:20260415T104018Z
LAST-MODIFIED:20260416T110053Z
UID:41143-1777363200-1777395600@events.superior.edu.pk
SUMMARY:Student Body Election 2026
DESCRIPTION:Overview\n\n\n\nSuperior University announces the Student Body Election 2026\, a defining moment where student participation directly shapes the future of campus leadership and student life. \n\n\n\nThis election is more than a formal process; it is a structured opportunity for students to actively engage\, choose representation\, and contribute to meaningful change within the university community. \n\n\n\nAbout the Event\n\n\n\nThe Student Body Election 2026 is designed to strengthen student voice and democratic participation across campus. Through this initiative\, students will have the opportunity to elect representatives who reflect their ideas\, priorities\, and aspirations. \n\n\n\nIt is a space where leadership is not assumed\, but chosen\, through trust\, participation\, and responsibility. \n\n\n\nPurpose of the Election\n\n\n\nThis event aims to: \n\n\n\n\nEncourage active student participation in university governance\n\n\n\nProvide a platform for student representation and leadership\n\n\n\nStrengthen engagement between students and the university community\n\n\n\nSupport a culture of accountability\, inclusion\, and collaboration\n\n\n\n\nWhy It Matters\n\n\n\nLeadership within the university is shaped by those who choose to take part. Every vote contributes to the direction of student life\, ensuring that decisions reflect collective student voices rather than individual influence. \n\n\n\nCall to Participate\n\n\n\nStudents are encouraged to take part in the election process\, support their representatives\, and make their voices count. \n\n\n\nClick. Cast. Elect.\n\n\n\nYour vote is not just a decision; it is your voice.
URL:https://events.superior.edu.pk/event/student-body-election-2026/
LOCATION:superior univeristy
ATTACH;FMTTYPE=image/jpeg:https://events.superior.edu.pk/wp-content/uploads/2026/04/Group-3.jpg
END:VEVENT
END:VCALENDAR